BEGIN:VCALENDAR
VERSION:2.0
PRODID:Events from www.apparelnews.net
X-WR-CALNAME:Events from www.apparelnews.net
X-WR-CALDESC:Events from www.apparelnews.net
BEGIN:VEVENT
SUMMARY:Texworld New York City--Virtual
URL;VALUE=URI:http://www.apparelnews.net/events/2022/jan/25/texworld-usa-912cc6c8-1f75dc64-5940-4dd83d3e/?et=19945
DTSTART:20220125
DESCRIPTION;ENCODING=QUOTED-PRINTABLE:https://texworld-usa.us.messefrankfurt.com/new-york/en.html\n\n(770) 984-8016

END:VEVENT
END:VCALENDAR
