BEGIN:VCALENDAR
VERSION:2.0
PRODID:Events from www.apparelnews.net
X-WR-CALNAME:Events from www.apparelnews.net
X-WR-CALDESC:Events from www.apparelnews.net
BEGIN:VEVENT
SUMMARY:Trends The Apparel Show
URL;VALUE=URI:http://www.apparelnews.net/events/2022/jan/26/trends-the-apparel-show-937a9d9a-46-595c19a2/?et=20242
DTSTART:20220126
DESCRIPTION;ENCODING=QUOTED-PRINTABLE:www.trendsapparel.com

END:VEVENT
END:VCALENDAR
