BEGIN:VCALENDAR
VERSION:2.0
PRODID:Events from www.apparelnews.net
X-WR-CALNAME:Events from www.apparelnews.net
X-WR-CALDESC:Events from www.apparelnews.net
BEGIN:VEVENT
SUMMARY:Billings Market Association
URL;VALUE=URI:http://www.apparelnews.net/events/2022/jan/27/billings-market-association-ffe3eef-63de2bec/?et=19833
DTSTART:20220127
DESCRIPTION;ENCODING=QUOTED-PRINTABLE:www.billingsmarketassoc.com

END:VEVENT
END:VCALENDAR
