BEGIN:VCALENDAR
VERSION:2.0
PRODID:Events from www.apparelnews.net
X-WR-CALNAME:Events from www.apparelnews.net
X-WR-CALDESC:Events from www.apparelnews.net
BEGIN:VEVENT
SUMMARY:Supreme Kids
URL;VALUE=URI:http://www.apparelnews.net/events/2022/jan/30/supreme-celebration-949ad666-6ed94d-13534c4e/?et=19850
DTSTART:20220130
DESCRIPTION;ENCODING=QUOTED-PRINTABLE:http://www.munichfashioncompany.com/en/trade-fairs/

END:VEVENT
END:VCALENDAR
