BEGIN:VCALENDAR
VERSION:2.0
PRODID:Events from www.apparelnews.net
X-WR-CALNAME:Events from www.apparelnews.net
X-WR-CALDESC:Events from www.apparelnews.net
BEGIN:VEVENT
SUMMARY:Asia Apparel Expo Berlin
URL;VALUE=URI:http://www.apparelnews.net/events/2022/jul/05/asia-apparel-expo-berlin-ae40a8d8-c-4455725c/?et=21300
DTSTART:20220705
DESCRIPTION;ENCODING=QUOTED-PRINTABLE:https://www.asiaapparelexpo.com/en-index.php

END:VEVENT
END:VCALENDAR
