BEGIN:VCALENDAR
VERSION:2.0
PRODID:Events from www.apparelnews.net
X-WR-CALNAME:Events from www.apparelnews.net
X-WR-CALDESC:Events from www.apparelnews.net
BEGIN:VEVENT
SUMMARY:Premiere Vision Paris
URL;VALUE=URI:http://www.apparelnews.net/events/2022/jul/05/premiere-vision-paris-167c32b8-0a2c-1d0b0594/?et=20673
DTSTART:20220705
DESCRIPTION;ENCODING=QUOTED-PRINTABLE:www.premierevision.com\n\nOnline and physical

END:VEVENT
END:VCALENDAR
