BEGIN:VCALENDAR
VERSION:2.0
PRODID:Events from www.apparelnews.net
X-WR-CALNAME:Events from www.apparelnews.net
X-WR-CALDESC:Events from www.apparelnews.net
BEGIN:VEVENT
SUMMARY:Dallas Apparel & Accessories Market
URL;VALUE=URI:http://www.apparelnews.net/events/2022/jun/17/dallas-apparel-accessories-market-t-c094c33e/?et=20071
DTSTART:20220617
DESCRIPTION;ENCODING=QUOTED-PRINTABLE:http://dallasmarketcenter.com

END:VEVENT
END:VCALENDAR
