BEGIN:VCALENDAR
VERSION:2.0
PRODID:Events from www.apparelnews.net
X-WR-CALNAME:Events from www.apparelnews.net
X-WR-CALDESC:Events from www.apparelnews.net
BEGIN:VEVENT
SUMMARY:Dallas Total Home & Gift Market
URL;VALUE=URI:http://www.apparelnews.net/events/2022/jun/28/dallas-apparel-accessories-market-t-8153f5d4/?et=20065
DTSTART:20220628
DESCRIPTION;ENCODING=QUOTED-PRINTABLE:http://dallasmarketcenter.com

END:VEVENT
END:VCALENDAR
