BEGIN:VCALENDAR
VERSION:2.0
PRODID:Events from www.apparelnews.net
X-WR-CALNAME:Events from www.apparelnews.net
X-WR-CALDESC:Events from www.apparelnews.net
BEGIN:VEVENT
SUMMARY:In-Store Asia
URL;VALUE=URI:http://www.apparelnews.net/events/2022/jun/30/-store-asia/?et=20746
DTSTART:20220630
DESCRIPTION;ENCODING=QUOTED-PRINTABLE:https://www.instoreasia.in/

END:VEVENT
END:VCALENDAR
