BEGIN:VCALENDAR
VERSION:2.0
PRODID:Events from www.apparelnews.net
X-WR-CALNAME:Events from www.apparelnews.net
X-WR-CALDESC:Events from www.apparelnews.net
BEGIN:VEVENT
SUMMARY:Mercedes-Benz Fashion Week Madrid
URL;VALUE=URI:http://www.apparelnews.net/events/2022/mar/09/mercedes-benz-fashion-week-madrid-1-0e4b51d0/?et=19839
DTSTART:20220309
DESCRIPTION;ENCODING=QUOTED-PRINTABLE:https://www.ifema.es/mbfw-madrid\n\nwww.ifema.es

END:VEVENT
END:VCALENDAR
