BEGIN:VCALENDAR
VERSION:2.0
PRODID:Events from www.apparelnews.net
X-WR-CALNAME:Events from www.apparelnews.net
X-WR-CALDESC:Events from www.apparelnews.net
BEGIN:VEVENT
SUMMARY:Shoptalk Spring Meetup
URL;VALUE=URI:http://www.apparelnews.net/events/2022/mar/27/shoptalk-222e2d78-093c9750-3bd6a85e-0487c04c/?et=20456
DTSTART:20220327
DESCRIPTION;ENCODING=QUOTED-PRINTABLE:https://shoptalk.com/\n\nConference for large retailers and branded manufacturers\, startups\, tech companies\, investors\, media and analysts.

END:VEVENT
END:VCALENDAR
