BEGIN:VCALENDAR
VERSION:2.0
PRODID:Events from www.apparelnews.net
X-WR-CALNAME:Events from www.apparelnews.net
X-WR-CALDESC:Events from www.apparelnews.net
BEGIN:VEVENT
SUMMARY:Stylemax
URL;VALUE=URI:http://www.apparelnews.net/events/2022/mar/29/stylemax-91283bc6-39b61630-92258422-2c177a1e/?et=20668
DTSTART:20220329
DESCRIPTION;ENCODING=QUOTED-PRINTABLE:http://www.stylemaxonline.com\n\n(800) 677-MART

END:VEVENT
END:VCALENDAR
