BEGIN:VCALENDAR
VERSION:2.0
PRODID:Events from www.apparelnews.net
X-WR-CALNAME:Events from www.apparelnews.net
X-WR-CALDESC:Events from www.apparelnews.net
BEGIN:VEVENT
SUMMARY:Denimsandjeans Japan
URL;VALUE=URI:http://www.apparelnews.net/events/2022/nov/02/denimsandjeans-japan-444d3cee-0a5ff-1dfa39ce/?et=21506
DTSTART:20221102
DESCRIPTION;ENCODING=QUOTED-PRINTABLE:https://www.denimsandjeans.com/\n\nRaw and Right

END:VEVENT
END:VCALENDAR
