BEGIN:VCALENDAR
VERSION:2.0
PRODID:Events from www.apparelnews.net
X-WR-CALNAME:Events from www.apparelnews.net
X-WR-CALDESC:Events from www.apparelnews.net
BEGIN:VEVENT
SUMMARY:Made in Bangladesh Week
URL;VALUE=URI:http://www.apparelnews.net/events/2022/nov/18/made-bangladesh-week-tbc/?et=20773
DTSTART:20221118
DESCRIPTION;ENCODING=QUOTED-PRINTABLE:https://www.madeinbangladeshweek.com/
Bangladesh
END:VEVENT
END:VCALENDAR
