BEGIN:VCALENDAR
VERSION:2.0
PRODID:Events from www.apparelnews.net
X-WR-CALNAME:Events from www.apparelnews.net
X-WR-CALDESC:Events from www.apparelnews.net
BEGIN:VEVENT
SUMMARY:Los Angeles Christmas Cash & Carry Show
URL;VALUE=URI:http://www.apparelnews.net/events/2022/oct/09/los-angeles-christmas-cash-carry-gi-6e529c40/?et=22030
DTSTART:20221009
DESCRIPTION;ENCODING=QUOTED-PRINTABLE:https://www.pinnacle-shows.com/la-cash-and-carry-show

END:VEVENT
END:VCALENDAR
