BEGIN:VCALENDAR
VERSION:2.0
PRODID:Events from www.apparelnews.net
X-WR-CALNAME:Events from www.apparelnews.net
X-WR-CALDESC:Events from www.apparelnews.net
BEGIN:VEVENT
SUMMARY:1001 Bodas-Weddings
URL;VALUE=URI:http://www.apparelnews.net/events/2022/oct/29/1001-moments-192dcb32/?et=22148
DTSTART:20221029
DESCRIPTION;ENCODING=QUOTED-PRINTABLE:https://www.ifema.es/1001bodas

END:VEVENT
END:VCALENDAR
