BEGIN:VCALENDAR
VERSION:2.0
PRODID:Events from www.apparelnews.net
X-WR-CALNAME:Events from www.apparelnews.net
X-WR-CALDESC:Events from www.apparelnews.net
BEGIN:VEVENT
SUMMARY:FIDM Webinar--Future of Streetwear
URL;VALUE=URI:http://www.apparelnews.net/events/2022/sep/13/fidm-future-e-commerce-webinar-fcec-1f432186/?et=21334
DTSTART:20220913T120000
DESCRIPTION;ENCODING=QUOTED-PRINTABLE:https://fidm.zoom.us/webinar/register/WN_VPn-zHCMQKOR5G-pmeySSg\n\nhttps://twitter.com/FIDM

END:VEVENT
END:VCALENDAR
