BEGIN:VCALENDAR
VERSION:2.0
PRODID:Events from www.apparelnews.net
X-WR-CALNAME:Events from www.apparelnews.net
X-WR-CALDESC:Events from www.apparelnews.net
BEGIN:VEVENT
SUMMARY:International Premium Incentive Show
URL;VALUE=URI:http://www.apparelnews.net/events/2023/apr/14/international-premium-incentive-sho-6bbe244c/?et=21826
DTSTART:20230414
DESCRIPTION;ENCODING=QUOTED-PRINTABLE:https://www.giftshow.co.jp/english/\n\nPostponed to May 12-14\, 2020

END:VEVENT
END:VCALENDAR
