BEGIN:VCALENDAR
VERSION:2.0
PRODID:Events from www.apparelnews.net
X-WR-CALNAME:Events from www.apparelnews.net
X-WR-CALDESC:Events from www.apparelnews.net
BEGIN:VEVENT
SUMMARY:Barcelona Bridal Fashion Week
URL;VALUE=URI:http://www.apparelnews.net/events/2023/apr/19/barcelona-bridal-week-ecb16b88/?et=22315
DTSTART:20230419
DESCRIPTION;ENCODING=QUOTED-PRINTABLE:https://barcelonabridalweek.com/

END:VEVENT
END:VCALENDAR
