BEGIN:VCALENDAR
VERSION:2.0
PRODID:Events from www.apparelnews.net
X-WR-CALNAME:Events from www.apparelnews.net
X-WR-CALDESC:Events from www.apparelnews.net
BEGIN:VEVENT
SUMMARY:HKTDC Hong Kong International Licensing Virtual Show
URL;VALUE=URI:http://www.apparelnews.net/events/2023/apr/27/hong-kong-international-home-textil-c179ccb6/?et=22177
DTSTART:20230427
DESCRIPTION;ENCODING=QUOTED-PRINTABLE:https://www.hktdc.com/

END:VEVENT
END:VCALENDAR
