BEGIN:VCALENDAR
VERSION:2.0
PRODID:Events from www.apparelnews.net
X-WR-CALNAME:Events from www.apparelnews.net
X-WR-CALDESC:Events from www.apparelnews.net
BEGIN:VEVENT
SUMMARY:Supreme Women & Men Munich
URL;VALUE=URI:http://www.apparelnews.net/events/2023/aug/08/supreme-celebration-949ad666-08e226-7b61f4e8/?et=22613
DTSTART:20230808
DESCRIPTION;ENCODING=QUOTED-PRINTABLE:https://www.munichfashioncompany.com/

END:VEVENT
END:VCALENDAR
