BEGIN:VCALENDAR
VERSION:2.0
PRODID:Events from www.apparelnews.net
X-WR-CALNAME:Events from www.apparelnews.net
X-WR-CALDESC:Events from www.apparelnews.net
BEGIN:VEVENT
SUMMARY:Active Collective California
URL;VALUE=URI:http://www.apparelnews.net/events/2023/aug/22/swim-collective-and-active-collecti-836bd8ae/?et=22162
DTSTART:20230822
DESCRIPTION;ENCODING=QUOTED-PRINTABLE:https://www.activewearcollective.com/

END:VEVENT
END:VCALENDAR
