BEGIN:VCALENDAR
VERSION:2.0
PRODID:Events from www.apparelnews.net
X-WR-CALNAME:Events from www.apparelnews.net
X-WR-CALDESC:Events from www.apparelnews.net
BEGIN:VEVENT
SUMMARY:All China Leather Exhibition Shanghai
URL;VALUE=URI:http://www.apparelnews.net/events/2023/aug/29/all-china-leather-exhibition-33c017-be255876/?et=21210
DTSTART:20230829
DESCRIPTION;ENCODING=QUOTED-PRINTABLE:www.leatherfair.aplf.com/en-us/

END:VEVENT
END:VCALENDAR
