BEGIN:VCALENDAR
VERSION:2.0
PRODID:Events from www.apparelnews.net
X-WR-CALNAME:Events from www.apparelnews.net
X-WR-CALDESC:Events from www.apparelnews.net
BEGIN:VEVENT
SUMMARY:CAST Shoe Days
URL;VALUE=URI:http://www.apparelnews.net/events/2023/aug/29/cast-preview-men-216d6ad6-52ac7574/?et=22799
DTSTART:20230829
DESCRIPTION;ENCODING=QUOTED-PRINTABLE:https://cast.nl/\n\n&nbsp;

END:VEVENT
END:VCALENDAR
