BEGIN:VCALENDAR
VERSION:2.0
PRODID:Events from www.apparelnews.net
X-WR-CALNAME:Events from www.apparelnews.net
X-WR-CALDESC:Events from www.apparelnews.net
BEGIN:VEVENT
SUMMARY:INDX Sports & Leisure
URL;VALUE=URI:http://www.apparelnews.net/events/2023/dec/07/indx-intimate-apparel-show-3379112c-27e60c1a/?et=23439
DTSTART:20231207
DESCRIPTION;ENCODING=QUOTED-PRINTABLE:https://www.indxshows.co.uk/indx-fashion/sport-leisure/sports-leisure

END:VEVENT
END:VCALENDAR
