BEGIN:VCALENDAR
VERSION:2.0
PRODID:Events from www.apparelnews.net
X-WR-CALNAME:Events from www.apparelnews.net
X-WR-CALDESC:Events from www.apparelnews.net
BEGIN:VEVENT
SUMMARY:Mercedes-Benz Fashion Week Madrid
URL;VALUE=URI:http://www.apparelnews.net/events/2023/feb/15/mercedes-benz-fashion-week-madrid-1-bd679e9a/?et=22288
DTSTART:20230215
DESCRIPTION;ENCODING=QUOTED-PRINTABLE:https://www.ifema.es/mbfw-madrid\n\nwww.ifema.es

END:VEVENT
END:VCALENDAR
