BEGIN:VCALENDAR
VERSION:2.0
PRODID:Events from www.apparelnews.net
X-WR-CALNAME:Events from www.apparelnews.net
X-WR-CALDESC:Events from www.apparelnews.net
BEGIN:VEVENT
SUMMARY:Alberta Gift + Home Market
URL;VALUE=URI:http://www.apparelnews.net/events/2023/feb/28/alberta-gift-fair-91323932-e7cfb442-1efd3066/?et=21736
DTSTART:20230228
DESCRIPTION;ENCODING=QUOTED-PRINTABLE:https://www.cangift.org\n\n(888) 823-7469\n\n&nbsp;

END:VEVENT
END:VCALENDAR
