BEGIN:VCALENDAR
VERSION:2.0
PRODID:Events from www.apparelnews.net
X-WR-CALNAME:Events from www.apparelnews.net
X-WR-CALDESC:Events from www.apparelnews.net
BEGIN:VEVENT
SUMMARY:American Equestrian Trade Association (AETA) International Trade Show
URL;VALUE=URI:http://www.apparelnews.net/events/2023/jan/12/american-equestrian-trade-associati-4e39e2f4/?et=21074
DTSTART:20230112
DESCRIPTION;ENCODING=QUOTED-PRINTABLE:http://aetadallas.com/trade-show-information.html

END:VEVENT
END:VCALENDAR
