BEGIN:VCALENDAR
VERSION:2.0
PRODID:Events from www.apparelnews.net
X-WR-CALNAME:Events from www.apparelnews.net
X-WR-CALDESC:Events from www.apparelnews.net
BEGIN:VEVENT
SUMMARY:Active Collective
URL;VALUE=URI:http://www.apparelnews.net/events/2023/jan/18/swim-collective-and-active-collecti-3a8745d0/?et=21443
DTSTART:20230118
DESCRIPTION;ENCODING=QUOTED-PRINTABLE:https://www.activewearcollective.com/

END:VEVENT
END:VCALENDAR
