BEGIN:VCALENDAR
VERSION:2.0
PRODID:Events from www.apparelnews.net
X-WR-CALNAME:Events from www.apparelnews.net
X-WR-CALDESC:Events from www.apparelnews.net
BEGIN:VEVENT
SUMMARY:New England Apparel Club Manchester Signature Show
URL;VALUE=URI:http://www.apparelnews.net/events/2023/jan/24/new-england-apparel-club-portland-7-50d4b396/?et=21641
DTSTART:20230124
DESCRIPTION;ENCODING=QUOTED-PRINTABLE:https://www.neacshow.com/trade-shows

END:VEVENT
END:VCALENDAR
