BEGIN:VCALENDAR
VERSION:2.0
PRODID:Events from www.apparelnews.net
X-WR-CALNAME:Events from www.apparelnews.net
X-WR-CALDESC:Events from www.apparelnews.net
BEGIN:VEVENT
SUMMARY:Just Around the Corner Manchester
URL;VALUE=URI:http://www.apparelnews.net/events/2023/jul/11/just-around-corner-81da543a-802a38f-cf02d0e4/?et=22696
DTSTART:20230711
DESCRIPTION;ENCODING=QUOTED-PRINTABLE:https://www.justaroundthecorner.co.uk/

END:VEVENT
END:VCALENDAR
