BEGIN:VCALENDAR
VERSION:2.0
PRODID:Events from www.apparelnews.net
X-WR-CALNAME:Events from www.apparelnews.net
X-WR-CALDESC:Events from www.apparelnews.net
BEGIN:VEVENT
SUMMARY:Bluezone\, Keyhouse\, The Source
URL;VALUE=URI:http://www.apparelnews.net/events/2023/jul/18/munich-fabric-start-1662c54a-2d8632-d266d446/?et=22338
DTSTART:20230718
DESCRIPTION;ENCODING=QUOTED-PRINTABLE:https://bluezone.show/

END:VEVENT
END:VCALENDAR
