BEGIN:VCALENDAR
VERSION:2.0
PRODID:Events from www.apparelnews.net
X-WR-CALNAME:Events from www.apparelnews.net
X-WR-CALDESC:Events from www.apparelnews.net
BEGIN:VEVENT
SUMMARY:Munich Fabric Start
URL;VALUE=URI:http://www.apparelnews.net/events/2023/jul/20/munich-fabric-start-1662c54a-2d8632-2b03fac6/?et=22337
DTSTART:20230720
DESCRIPTION;ENCODING=QUOTED-PRINTABLE:http://www.munichfabricstart.com/

END:VEVENT
END:VCALENDAR
