BEGIN:VCALENDAR
VERSION:2.0
PRODID:Events from www.apparelnews.net
X-WR-CALNAME:Events from www.apparelnews.net
X-WR-CALDESC:Events from www.apparelnews.net
BEGIN:VEVENT
SUMMARY:Printsource New York
URL;VALUE=URI:http://www.apparelnews.net/events/2023/jul/20/printsource-new-york-b3664568-0576d-eaaee92a/?et=22547
DTSTART:20230720
DESCRIPTION;ENCODING=QUOTED-PRINTABLE:www.printsourcenewyork.com\n\nwww.metropolitanevents.com

END:VEVENT
END:VCALENDAR
