BEGIN:VCALENDAR
VERSION:2.0
PRODID:Events from www.apparelnews.net
X-WR-CALNAME:Events from www.apparelnews.net
X-WR-CALDESC:Events from www.apparelnews.net
BEGIN:VEVENT
SUMMARY:Texworld Evolution New York City
URL;VALUE=URI:http://www.apparelnews.net/events/2023/jul/20/texworld-usa-912cc6c8-1f75dc64-5940-aa2b4a1e/?et=22535
DTSTART:20230720
DESCRIPTION;ENCODING=QUOTED-PRINTABLE:https://texworld-usa.us.messefrankfurt.com/new-york/en.html\n\n(770) 984-8016

END:VEVENT
END:VCALENDAR
