BEGIN:VCALENDAR
VERSION:2.0
PRODID:Events from www.apparelnews.net
X-WR-CALNAME:Events from www.apparelnews.net
X-WR-CALDESC:Events from www.apparelnews.net
BEGIN:VEVENT
SUMMARY:Supreme Body & Beach
URL;VALUE=URI:http://www.apparelnews.net/events/2023/jul/25/supreme-celebration-949ad666-08e226-643afb2a/?et=22611
DTSTART:20230725
DESCRIPTION;ENCODING=QUOTED-PRINTABLE:http://www.munichfashioncompany.com/en/trade-fairs/

END:VEVENT
END:VCALENDAR
