BEGIN:VCALENDAR
VERSION:2.0
PRODID:Events from www.apparelnews.net
X-WR-CALNAME:Events from www.apparelnews.net
X-WR-CALDESC:Events from www.apparelnews.net
BEGIN:VEVENT
SUMMARY:Texpremium
URL;VALUE=URI:http://www.apparelnews.net/events/2023/jun/27/texpremium-07952a16-b0ce5072/?et=22716
DTSTART:20230627
DESCRIPTION;ENCODING=QUOTED-PRINTABLE:&nbsp;\n\nhttp://www.texpremium.co.uk

END:VEVENT
END:VCALENDAR
