BEGIN:VCALENDAR
VERSION:2.0
PRODID:Events from www.apparelnews.net
X-WR-CALNAME:Events from www.apparelnews.net
X-WR-CALDESC:Events from www.apparelnews.net
BEGIN:VEVENT
SUMMARY:Pitti Immagine Filati
URL;VALUE=URI:http://www.apparelnews.net/events/2023/jun/30/pitti-immagine-filati-9cd59668-4720-894befc0/?et=22545
DTSTART:20230630
DESCRIPTION;ENCODING=QUOTED-PRINTABLE:www.pittimmagine.com

END:VEVENT
END:VCALENDAR
