BEGIN:VCALENDAR
VERSION:2.0
PRODID:Events from www.apparelnews.net
X-WR-CALNAME:Events from www.apparelnews.net
X-WR-CALDESC:Events from www.apparelnews.net
BEGIN:VEVENT
SUMMARY:Tranoi Women
URL;VALUE=URI:http://www.apparelnews.net/events/2023/mar/02/nova-dfo-tranoi-42e0bf36-18e4e448-a-3e529646/?et=21970
DTSTART:20230302
DESCRIPTION;ENCODING=QUOTED-PRINTABLE:https://www.tranoi.com/events/nova-x-by-dfo-tranoi/

END:VEVENT
END:VCALENDAR
