BEGIN:VCALENDAR
VERSION:2.0
PRODID:Events from www.apparelnews.net
X-WR-CALNAME:Events from www.apparelnews.net
X-WR-CALDESC:Events from www.apparelnews.net
BEGIN:VEVENT
SUMMARY:Los Angeles Fashion Week powered by The Society
URL;VALUE=URI:http://www.apparelnews.net/events/2023/oct/12/LA-fashion-week-powered-society-31f-88ba841a/?et=23073
DTSTART:20231012
DESCRIPTION;ENCODING=QUOTED-PRINTABLE:https://thesocietyfashionweek.com/

END:VEVENT
END:VCALENDAR
