BEGIN:VCALENDAR
VERSION:2.0
PRODID:Events from www.apparelnews.net
X-WR-CALNAME:Events from www.apparelnews.net
X-WR-CALDESC:Events from www.apparelnews.net
BEGIN:VEVENT
SUMMARY:Centre Stage--Asia's Fashion Spotlight
URL;VALUE=URI:http://www.apparelnews.net/events/2023/sep/06/centrestage-tba-1cc64310-d64f0934-1-60c0facc/?et=22722
DTSTART:20230906
DESCRIPTION;ENCODING=QUOTED-PRINTABLE:https://centrestage.hktdc.com/main/en/

END:VEVENT
END:VCALENDAR
