BEGIN:VCALENDAR
VERSION:2.0
PRODID:Events from www.apparelnews.net
X-WR-CALNAME:Events from www.apparelnews.net
X-WR-CALDESC:Events from www.apparelnews.net
BEGIN:VEVENT
SUMMARY:Dhaka International Yarn & Fabric Show
URL;VALUE=URI:http://www.apparelnews.net/events/2023/sep/13/yarn-fabric-bangledesh-d4f54e98-255-9b33ce00/?et=23051
DTSTART:20230913
DESCRIPTION;ENCODING=QUOTED-PRINTABLE:https://bd.cems-yarnandfabric.com/

END:VEVENT
END:VCALENDAR
