BEGIN:VCALENDAR
VERSION:2.0
PRODID:Events from www.apparelnews.net
X-WR-CALNAME:Events from www.apparelnews.net
X-WR-CALDESC:Events from www.apparelnews.net
BEGIN:VEVENT
SUMMARY:Digital Marketing World Forum
URL;VALUE=URI:http://www.apparelnews.net/events/2023/sep/15/digital-marketing-world-forum/?et=23232
DTSTART:20230915
DESCRIPTION;ENCODING=QUOTED-PRINTABLE:https://www.digitalmarketing-conference.com/northamerica/

END:VEVENT
END:VCALENDAR
