BEGIN:VCALENDAR
VERSION:2.0
PRODID:Events from www.apparelnews.net
X-WR-CALNAME:Events from www.apparelnews.net
X-WR-CALDESC:Events from www.apparelnews.net
BEGIN:VEVENT
SUMMARY:Textech International Expo Bangladesh
URL;VALUE=URI:http://www.apparelnews.net/events/2023/sep/16/textech-international-expo-tba-8332-1c210758/?et=23056
DTSTART:20230916
DESCRIPTION;ENCODING=QUOTED-PRINTABLE:https://bd.cems-textech.com/

END:VEVENT
END:VCALENDAR
