BEGIN:VCALENDAR
VERSION:2.0
PRODID:Events from www.apparelnews.net
X-WR-CALNAME:Events from www.apparelnews.net
X-WR-CALDESC:Events from www.apparelnews.net
BEGIN:VEVENT
SUMMARY:Intergift\, Bisutex\, Madridjoya
URL;VALUE=URI:http://www.apparelnews.net/events/2023/sep/17/bisutex-intergift-madridjoya-1f609d-00878ba6/?et=22728
DTSTART:20230917
DESCRIPTION;ENCODING=QUOTED-PRINTABLE:www.ifema.es

END:VEVENT
END:VCALENDAR
