BEGIN:VCALENDAR
VERSION:2.0
PRODID:Events from www.apparelnews.net
X-WR-CALNAME:Events from www.apparelnews.net
X-WR-CALDESC:Events from www.apparelnews.net
BEGIN:VEVENT
SUMMARY:Momad International Textile\, Footwear and Accessories Exhibition
URL;VALUE=URI:http://www.apparelnews.net/events/2023/sep/17/momad-shoes-93719dda-9346d67a-ffffb-4b1ec152/?et=22730
DTSTART:20230917
DESCRIPTION;ENCODING=QUOTED-PRINTABLE:https://www.ifema.es/momad

END:VEVENT
END:VCALENDAR
