BEGIN:VCALENDAR
VERSION:2.0
PRODID:Events from www.apparelnews.net
X-WR-CALNAME:Events from www.apparelnews.net
X-WR-CALDESC:Events from www.apparelnews.net
BEGIN:VEVENT
SUMMARY:Expofranquicia International Franchising Fair
URL;VALUE=URI:http://www.apparelnews.net/events/2024/apr/10/expofranquicia-93719dda-2df3d074-67-543ffc20/?et=24101
DTSTART:20240410
DESCRIPTION;ENCODING=QUOTED-PRINTABLE:https://www.ifema.es/en/expofranquicia

END:VEVENT
END:VCALENDAR
