BEGIN:VCALENDAR
VERSION:2.0
PRODID:Events from www.apparelnews.net
X-WR-CALNAME:Events from www.apparelnews.net
X-WR-CALDESC:Events from www.apparelnews.net
BEGIN:VEVENT
SUMMARY:Supreme Women & Men Munich
URL;VALUE=URI:http://www.apparelnews.net/events/2024/feb/10/supreme-celebration-949ad666-08e226-92bbb9b4/?et=23822
DTSTART:20240210
DESCRIPTION;ENCODING=QUOTED-PRINTABLE:https://www.munichfashioncompany.com/

END:VEVENT
END:VCALENDAR
