BEGIN:VCALENDAR
VERSION:2.0
PRODID:Events from www.apparelnews.net
X-WR-CALNAME:Events from www.apparelnews.net
X-WR-CALDESC:Events from www.apparelnews.net
BEGIN:VEVENT
SUMMARY:Momad International Textile\, Footwear and Accessories Exhibition
URL;VALUE=URI:http://www.apparelnews.net/events/2024/feb/11/momad-shoes-93719dda-9346d67a-ffffb-033f5fba/?et=23888
DTSTART:20240211
DESCRIPTION;ENCODING=QUOTED-PRINTABLE:https://www.ifema.es/momad

END:VEVENT
END:VCALENDAR
