BEGIN:VCALENDAR
VERSION:2.0
PRODID:Events from www.apparelnews.net
X-WR-CALNAME:Events from www.apparelnews.net
X-WR-CALDESC:Events from www.apparelnews.net
BEGIN:VEVENT
SUMMARY:Mercedes-Benz Fashion Week Madrid
URL;VALUE=URI:http://www.apparelnews.net/events/2024/feb/15/mercedes-benz-fashion-week-madrid-1-5dadfb8c/?et=23889
DTSTART:20240215
DESCRIPTION;ENCODING=QUOTED-PRINTABLE:https://www.ifema.es/mbfw-madrid\n\nwww.ifema.es

END:VEVENT
END:VCALENDAR
